BEGIN:VCALENDAR
VERSION:2.0
PRODID:SchoolNow
CALSCALE:GREGORIAN
BEGIN:VEVENT
UID:b78cfeb4-2f2e-11ef-990b-0a58a9feac02
DTSTAMP:20240620T175836Z
SUMMARY:First Day Of School For Students (Grades TK\, K-7)
URL;VALUE=URI:https://www.lahabraschools.org/arbolita/calendar/6148195/firs
 t-day-of-school-for-students-grades-tk-k-7
DTSTART:20240812T172300Z
DTEND:20240812T182300Z
END:VEVENT
END:VCALENDAR
