BEGIN:VCALENDAR
VERSION:2.0
PRODID:SchoolNow
CALSCALE:GREGORIAN
BEGIN:VEVENT
UID:b78e46d4-2f2e-11ef-8df4-0a58a9feac02
DTSTAMP:20240620T175836Z
SUMMARY:First Day Of School For Students (Grade 8)
URL;VALUE=URI:https://www.lahabraschools.org/arbolita/calendar/6148196/firs
 t-day-of-school-for-students-grade-8
DTSTART:20240813T172500Z
DTEND:20240813T182500Z
END:VEVENT
END:VCALENDAR
