BEGIN:VCALENDAR
VERSION:2.0
PRODID:SchoolNow
CALSCALE:GREGORIAN
BEGIN:VEVENT
UID:1ec7660a-2f2f-11ef-a90f-0a58a9feac02
DTSTAMP:20240620T180129Z
SUMMARY:Labor Day
URL;VALUE=URI:https://www.lahabraschools.org/arbolita/calendar/6148201/labo
 r-day
DTSTART:20240902T173300Z
DTEND:20240902T183300Z
END:VEVENT
END:VCALENDAR
