BEGIN:VCALENDAR
VERSION:2.0
PRODID:SchoolNow
CALSCALE:GREGORIAN
BEGIN:VEVENT
UID:1ecafd88-2f2f-11ef-bdf5-0a58a9feac02
DTSTAMP:20240620T180129Z
SUMMARY:Parent Conferences (minimum days)
URL;VALUE=URI:https://www.lahabraschools.org/arbolita/calendar/6148202/pare
 nt-conferences-minimum-days
DTSTART:20240927T173400Z
DTEND:20241004T183400Z
END:VEVENT
END:VCALENDAR
