BEGIN:VCALENDAR
VERSION:2.0
PRODID:SchoolNow
CALSCALE:GREGORIAN
BEGIN:VEVENT
UID:1ecde1ba-2f2f-11ef-9860-0a58a9feac02
DTSTAMP:20240620T180129Z
SUMMARY:Staff Development Day
URL;VALUE=URI:https://www.lahabraschools.org/arbolita/calendar/6148203/staf
 f-development-day
DTSTART:20241101T173900Z
DTEND:20241101T183900Z
END:VEVENT
END:VCALENDAR
