BEGIN:VCALENDAR
VERSION:2.0
PRODID:SchoolNow
CALSCALE:GREGORIAN
BEGIN:VEVENT
UID:1ed5720e-2f2f-11ef-b01c-0a58a9feac02
DTSTAMP:20240620T180129Z
SUMMARY:Report Card Input Day (minimum day)
URL;VALUE=URI:https://www.lahabraschools.org/arbolita/calendar/6148204/repo
 rt-card-input-day-minimum-day
DTSTART:20241108T184000Z
DTEND:20241108T194000Z
END:VEVENT
END:VCALENDAR
