BEGIN:VCALENDAR
VERSION:2.0
PRODID:SchoolNow
CALSCALE:GREGORIAN
BEGIN:VEVENT
UID:1ed750b0-2f2f-11ef-84c7-0a58a9feac02
DTSTAMP:20240620T180129Z
SUMMARY:Veteran’s Day
URL;VALUE=URI:https://www.lahabraschools.org/arbolita/calendar/6148205/vete
 ran-s-day
DTSTART:20241111T184000Z
DTEND:20241111T194000Z
END:VEVENT
END:VCALENDAR
