BEGIN:VCALENDAR
VERSION:2.0
PRODID:SchoolNow
CALSCALE:GREGORIAN
BEGIN:VEVENT
UID:1eda2c72-2f2f-11ef-b824-0a58a9feac02
DTSTAMP:20240620T180129Z
SUMMARY:Thanksgiving Recess
URL;VALUE=URI:https://www.lahabraschools.org/arbolita/calendar/6148206/than
 ksgiving-recess
DTSTART:20241125T184100Z
DTEND:20241129T194100Z
END:VEVENT
END:VCALENDAR
