BEGIN:VCALENDAR
VERSION:2.0
PRODID:SchoolNow
CALSCALE:GREGORIAN
BEGIN:VEVENT
UID:b65b2c1a-3030-11f0-bf89-025b8461c893
DTSTAMP:20260425T162512Z
SUMMARY:Minimum Day - Dismissal at 1PM
URL;VALUE=URI:https://www.lahabraschools.org/arbolita/calendar/8128702/mini
 mum-day-dismissal-at-1pm
DTSTART;VALUE=DATE:20260508
DTEND;VALUE=DATE:20260509
END:VEVENT
END:VCALENDAR
