BEGIN:VCALENDAR
VERSION:2.0
PRODID:SchoolNow
CALSCALE:GREGORIAN
BEGIN:VEVENT
UID:86b4cfac-3cfa-11f1-bb00-0a58a9feac02
DTSTAMP:20260421T025511Z
SUMMARY:CAASPP Kickoff Assembly
URL;VALUE=URI:https://www.lahabraschools.org/arbolita/calendar/9007529/caas
 pp-kickoff-assembly
DTSTART:20260420T201500Z
DTEND:20260420T221500Z
END:VEVENT
END:VCALENDAR
