BEGIN:VCALENDAR
VERSION:2.0
PRODID:SchoolNow
CALSCALE:GREGORIAN
BEGIN:VEVENT
UID:831a26a6-3d60-11f1-bf97-0a58a9feac02
DTSTAMP:20260422T092011Z
SUMMARY:McTeacher Night
URL;VALUE=URI:https://www.lahabraschools.org/arbolita/calendar/9008625/mcte
 acher-night
DTSTART:20260422T230000Z
DTEND:20260423T020000Z
END:VEVENT
END:VCALENDAR
