BEGIN:VCALENDAR
VERSION:2.0
PRODID:SchoolNow
CALSCALE:GREGORIAN
BEGIN:VEVENT
UID:46bd61dc-13ef-11eb-915d-0af5b0bb41cf
DTSTAMP:20201021T224636Z
SUMMARY:No School-Washington Day
URL;VALUE=URI:https://www.lahabraschools.org/calendar/2477424/no-school-was
 hington-day
DTSTART;VALUE=DATE:20210215
DTEND;VALUE=DATE:20210216
END:VEVENT
END:VCALENDAR
