BEGIN:VCALENDAR
VERSION:2.0
PRODID:SchoolNow
CALSCALE:GREGORIAN
BEGIN:VEVENT
UID:c962fa5c-5463-11eb-80f5-0e281c3edf57
DTSTAMP:20210906T234401Z
SUMMARY:Board Meeting
URL;VALUE=URI:https://www.lahabraschools.org/calendar/2523470/board-meeting
DTSTART:20210910T010000Z
DTEND:20210910T020000Z
ATTACH;FILENAME=9-9-21 Agenda.PDF;FMTTYPE=application/pdf:https://campussui
 te-storage.s3.amazonaws.com/prod/1031925/41eae2d6-29fe-11e7-b792-22000bd84
 90f/2310383/6cf53396-0cde-11ec-a48b-024502b78415/file/9-9-21 Agenda.PDF
END:VEVENT
END:VCALENDAR
