BEGIN:VCALENDAR
VERSION:2.0
PRODID:SchoolNow
CALSCALE:GREGORIAN
BEGIN:VEVENT
UID:5ce4d5f6-af07-11ee-b463-0a58a9feac02
DTSTAMP:20241111T235441Z
SUMMARY:Board Meeting
LOCATION:https://simbli.eboardsolutions.com/SB_Meetings/ViewMeeting.aspx?S=
 36030699&MID=34627
URL;VALUE=URI:https://www.lahabraschools.org/calendar/5128061/board-meeting
DTSTART:20241115T020000Z
DTEND:20241115T030000Z
END:VEVENT
END:VCALENDAR
