BEGIN:VCALENDAR
VERSION:2.0
PRODID:SchoolNow
CALSCALE:GREGORIAN
BEGIN:VEVENT
UID:6bc82b54-af07-11ee-9149-0a58a9feac02
DTSTAMP:20241217T003101Z
SUMMARY:Board Meeting
LOCATION:https://simbli.eboardsolutions.com/SB_Meetings/ViewMeeting.aspx?S=
 36030699&MID=35023
URL;VALUE=URI:https://www.lahabraschools.org/calendar/5128063/board-meeting
DTSTART:20241220T020000Z
DTEND:20241220T030000Z
END:VEVENT
END:VCALENDAR
