BEGIN:VCALENDAR
VERSION:2.0
PRODID:SchoolNow
CALSCALE:GREGORIAN
BEGIN:VEVENT
UID:fdf12818-146b-11ef-8ba6-0a58a9feac02
DTSTAMP:20250623T233456Z
SUMMARY:Board Meeting
LOCATION:https://simbli.eboardsolutions.com/SB_Meetings/ViewMeeting.aspx?S=
 36030699&MID=41963
URL;VALUE=URI:https://www.lahabraschools.org/calendar/5987323/board-meeting
DTSTART:20250627T010000Z
DTEND:20250627T020000Z
END:VEVENT
END:VCALENDAR
