BEGIN:VCALENDAR
VERSION:2.0
PRODID:SchoolNow
CALSCALE:GREGORIAN
BEGIN:VEVENT
UID:e467b1c6-2f2a-11ef-a78f-0a58a9feac02
DTSTAMP:20240620T173113Z
SUMMARY:Students return from Winter Recess
URL;VALUE=URI:https://www.lahabraschools.org/calendar/6148169/students-retu
 rn-from-winter-recess
DTSTART:20250107T183000Z
DTEND:20250107T193000Z
END:VEVENT
END:VCALENDAR
