BEGIN:VCALENDAR
VERSION:2.0
PRODID:SchoolNow
CALSCALE:GREGORIAN
BEGIN:VEVENT
UID:119c43a0-2f2b-11ef-93fc-0a58a9feac02
DTSTAMP:20240620T173229Z
SUMMARY:Last Day of Instruction (Grades TK\,K-7)
URL;VALUE=URI:https://www.lahabraschools.org/calendar/6148170/last-day-of-i
 nstruction-grades-tk-k-7
DTSTART:20250529T173100Z
DTEND:20250529T183100Z
END:VEVENT
END:VCALENDAR
