BEGIN:VCALENDAR
VERSION:2.0
PRODID:SchoolNow
CALSCALE:GREGORIAN
BEGIN:VEVENT
UID:26a9b52a-2f2b-11ef-a26b-0a58a9feac02
DTSTAMP:20240620T173305Z
SUMMARY:Last Day of Instruction (Grade 8)
URL;VALUE=URI:https://www.lahabraschools.org/calendar/6148171/last-day-of-i
 nstruction-grade-8
DTSTART:20250530T173200Z
DTEND:20250530T183200Z
END:VEVENT
END:VCALENDAR
