BEGIN:VCALENDAR
VERSION:2.0
PRODID:SchoolNow
CALSCALE:GREGORIAN
BEGIN:VEVENT
UID:f9cb1fba-2f2c-11ef-b971-02d9f02858d1
DTSTAMP:20240620T174608Z
SUMMARY:Staff Development Day
URL;VALUE=URI:https://www.lahabraschools.org/calendar/6148180/staff-develop
 ment-day
DTSTART:20250106T184500Z
DTEND:20250106T194500Z
END:VEVENT
END:VCALENDAR
