BEGIN:VCALENDAR
VERSION:2.0
PRODID:SchoolNow
CALSCALE:GREGORIAN
BEGIN:VEVENT
UID:1386b1e4-2f2d-11ef-b8dc-02d7363539db
DTSTAMP:20240620T174651Z
SUMMARY:Students Return from Winter Recess
URL;VALUE=URI:https://www.lahabraschools.org/calendar/6148181/students-retu
 rn-from-winter-recess
DTSTART:20250107T184600Z
DTEND:20250107T194600Z
END:VEVENT
END:VCALENDAR
