BEGIN:VCALENDAR
VERSION:2.0
PRODID:SchoolNow
CALSCALE:GREGORIAN
BEGIN:VEVENT
UID:60623ae2-2f2d-11ef-b7ca-0a58a9feac02
DTSTAMP:20240620T174900Z
SUMMARY:Martin Luther King Day
URL;VALUE=URI:https://www.lahabraschools.org/calendar/6148182/martin-luther
 -king-day
DTSTART:20250120T184700Z
DTEND:20250120T194700Z
END:VEVENT
END:VCALENDAR
