BEGIN:VCALENDAR
VERSION:2.0
PRODID:SchoolNow
CALSCALE:GREGORIAN
BEGIN:VEVENT
UID:7c5b173c-2f2d-11ef-b389-0a58a9feac02
DTSTAMP:20240620T174947Z
SUMMARY:Parent Conferences (minimum days)
URL;VALUE=URI:https://www.lahabraschools.org/calendar/6148183/parent-confer
 ences-minimum-days
DTSTART:20250131T184900Z
DTEND:20250207T194900Z
END:VEVENT
END:VCALENDAR
