BEGIN:VCALENDAR
VERSION:2.0
PRODID:SchoolNow
CALSCALE:GREGORIAN
BEGIN:VEVENT
UID:97ace5e2-2f2d-11ef-9ce1-02ce630045ab
DTSTAMP:20240620T175033Z
SUMMARY:Lincoln's Day
URL;VALUE=URI:https://www.lahabraschools.org/calendar/6148184/lincolns-day
DTSTART:20250210T185000Z
DTEND:20250210T195000Z
END:VEVENT
END:VCALENDAR
