BEGIN:VCALENDAR
VERSION:2.0
PRODID:SchoolNow
CALSCALE:GREGORIAN
BEGIN:VEVENT
UID:b3324942-2f2d-11ef-8873-0a58a9feac02
DTSTAMP:20240620T175119Z
SUMMARY:Washington Day/Presidents' Day
URL;VALUE=URI:https://www.lahabraschools.org/calendar/6148185/washington-da
 y-presidents-day
DTSTART:20250217T185000Z
DTEND:20250217T195000Z
END:VEVENT
END:VCALENDAR
