BEGIN:VCALENDAR
VERSION:2.0
PRODID:SchoolNow
CALSCALE:GREGORIAN
BEGIN:VEVENT
UID:ce380c7c-2f2d-11ef-914b-023038674657
DTSTAMP:20250306T153636Z
SUMMARY:Middle School Report Card Input (minimum day)
URL;VALUE=URI:https://www.lahabraschools.org/calendar/6148186/report-card-i
 nput-minimum-day
DTSTART:20250307T185100Z
DTEND:20250307T195100Z
END:VEVENT
END:VCALENDAR
