BEGIN:VCALENDAR
VERSION:2.0
PRODID:SchoolNow
CALSCALE:GREGORIAN
BEGIN:VEVENT
UID:ea264c6e-2f2d-11ef-9084-0a58a9feac02
DTSTAMP:20240620T175252Z
SUMMARY:Spring Recess
URL;VALUE=URI:https://www.lahabraschools.org/calendar/6148187/spring-recess
DTSTART:20250317T175200Z
DTEND:20250321T185200Z
END:VEVENT
END:VCALENDAR
