BEGIN:VCALENDAR
VERSION:2.0
PRODID:SchoolNow
CALSCALE:GREGORIAN
BEGIN:VEVENT
UID:1b4df530-2f2e-11ef-b249-0a58a9feac02
DTSTAMP:20240620T175414Z
SUMMARY:Report Card Input (minimum day)
URL;VALUE=URI:https://www.lahabraschools.org/calendar/6148189/report-card-i
 nput-minimum-day
DTSTART:20250509T175300Z
DTEND:20250509T185300Z
END:VEVENT
END:VCALENDAR
