BEGIN:VCALENDAR
VERSION:2.0
PRODID:SchoolNow
CALSCALE:GREGORIAN
BEGIN:VEVENT
UID:49ed61c8-2f2e-11ef-b493-0ee4af65b7c3
DTSTAMP:20240620T175532Z
SUMMARY:6th-7th grade last day
URL;VALUE=URI:https://www.lahabraschools.org/calendar/6148191/6th-7th-grade
 -last-day
DTSTART:20250529T175400Z
DTEND:20250529T185400Z
END:VEVENT
END:VCALENDAR
