BEGIN:VCALENDAR
VERSION:2.0
PRODID:SchoolNow
CALSCALE:GREGORIAN
BEGIN:VEVENT
UID:5bfc26c4-2f2e-11ef-8e91-02ce630045ab
DTSTAMP:20240620T175603Z
SUMMARY:8th grade last day
URL;VALUE=URI:https://www.lahabraschools.org/calendar/6148192/8th-grade-las
 t-day
DTSTART:20250530T175500Z
DTEND:20250530T185500Z
END:VEVENT
END:VCALENDAR
