BEGIN:VCALENDAR
VERSION:2.0
PRODID:SchoolNow
CALSCALE:GREGORIAN
BEGIN:VEVENT
UID:93a86060-2f2e-11ef-adfa-0a58a9feac02
DTSTAMP:20250618T223300Z
SUMMARY:Juneteenth (No Summer Bridge Classes)
URL;VALUE=URI:https://www.lahabraschools.org/calendar/6148194/juneteenth
DTSTART:20250619T175700Z
DTEND:20250619T185700Z
END:VEVENT
END:VCALENDAR
