BEGIN:VCALENDAR
VERSION:2.0
PRODID:SchoolNow
CALSCALE:GREGORIAN
BEGIN:VEVENT
UID:5a7e0186-bd78-11ef-8f18-0e68170042dd
DTSTAMP:20250107T171749Z
SUMMARY:Board Meeting
LOCATION:https://simbli.eboardsolutions.com/SB_Meetings/ViewMeeting.aspx?S=
 36030699&MID=35898
URL;VALUE=URI:https://www.lahabraschools.org/calendar/7192783/board-meeting
DTSTART:20250110T020000Z
DTEND:20250110T030000Z
END:VEVENT
END:VCALENDAR
