BEGIN:VCALENDAR
VERSION:2.0
PRODID:SchoolNow
CALSCALE:GREGORIAN
BEGIN:VEVENT
UID:9464a6d4-bd78-11ef-bae0-0eb1a14d820b
DTSTAMP:20250211T000611Z
SUMMARY:Board Meeting
LOCATION:https://simbli.eboardsolutions.com/SB_Meetings/ViewMeeting.aspx?S=
 36030699&MID=37043
URL;VALUE=URI:https://www.lahabraschools.org/calendar/7192785/board-meeting
DTSTART:20250214T020000Z
DTEND:20250214T030000Z
END:VEVENT
END:VCALENDAR
