BEGIN:VCALENDAR
VERSION:2.0
PRODID:SchoolNow
CALSCALE:GREGORIAN
BEGIN:VEVENT
UID:a909ae7c-bd78-11ef-a655-0a58a9feac02
DTSTAMP:20250310T233416Z
SUMMARY:Board Meeting
LOCATION:https://simbli.eboardsolutions.com/SB_Meetings/ViewMeeting.aspx?S=
 36030699&MID=37404
URL;VALUE=URI:https://www.lahabraschools.org/calendar/7192789/board-meeting
DTSTART:20250314T010000Z
DTEND:20250314T020000Z
END:VEVENT
END:VCALENDAR
