BEGIN:VCALENDAR
VERSION:2.0
PRODID:SchoolNow
CALSCALE:GREGORIAN
BEGIN:VEVENT
UID:53eb8036-bd79-11ef-8d84-0a58a9feac02
DTSTAMP:20250908T232308Z
SUMMARY:Board Meeting
LOCATION:https://simbli.eboardsolutions.com/SB_Meetings/ViewMeeting.aspx?S=
 36030699&MID=44567
URL;VALUE=URI:https://www.lahabraschools.org/calendar/7192795/board-meeting
DTSTART:20250912T010000Z
DTEND:20250912T020000Z
END:VEVENT
END:VCALENDAR
