BEGIN:VCALENDAR
VERSION:2.0
PRODID:SchoolNow
CALSCALE:GREGORIAN
BEGIN:VEVENT
UID:63f4c9ba-bd79-11ef-813d-0a58a9feac02
DTSTAMP:20251006T232212Z
SUMMARY:Board Meeting
LOCATION:District Office
URL;VALUE=URI:https://www.lahabraschools.org/calendar/7192796/board-meeting
DTSTART:20251010T010000Z
DTEND:20251010T020000Z
ATTACH;FILENAME=10.9.25 Agenda.pdf;FMTTYPE=application/pdf:https://campussu
 ite-storage.s3.amazonaws.com/prod/1031925/41eae2d6-29fe-11e7-b792-22000bd8
 490f/3017927/37251570-a30b-11f0-82d9-0e84c27ea6fb/file/10.9.25 Agenda.pdf
END:VEVENT
END:VCALENDAR
