BEGIN:VCALENDAR
VERSION:2.0
PRODID:SchoolNow
CALSCALE:GREGORIAN
BEGIN:VEVENT
UID:dbb4feb0-bd7a-11ef-9b7d-0a58a9feac02
DTSTAMP:20251111T003125Z
SUMMARY:Board Meeting
LOCATION:https://simbli.eboardsolutions.com/SB_Meetings/ViewMeeting.aspx?S=
 36030699&MID=47087
URL;VALUE=URI:https://www.lahabraschools.org/calendar/7192798/board-meeting
DTSTART:20251114T020000Z
DTEND:20251114T030000Z
END:VEVENT
END:VCALENDAR
