BEGIN:VCALENDAR
VERSION:2.0
PRODID:SchoolNow
CALSCALE:GREGORIAN
BEGIN:VEVENT
UID:ee36d022-bd7a-11ef-8ca8-0e4459c80847
DTSTAMP:20251209T160628Z
SUMMARY:Board Meeting
URL;VALUE=URI:https://www.lahabraschools.org/calendar/7192799/board-meeting
DTSTART:20251212T020000Z
DTEND:20251212T030000Z
ATTACH;FILENAME=Agenda (1).pdf;FMTTYPE=application/pdf:https://campussuite-
 storage.s3.amazonaws.com/prod/1031925/41eae2d6-29fe-11e7-b792-22000bd8490f
 /3049092/e6848854-d49b-11f0-a286-0e0e6600e65b/file/Agenda (1).pdf
END:VEVENT
END:VCALENDAR
