BEGIN:VCALENDAR
VERSION:2.0
PRODID:SchoolNow
CALSCALE:GREGORIAN
BEGIN:VEVENT
UID:aff0cad8-bd7b-11ef-a649-0affdfbb6d3f
DTSTAMP:20250116T201743Z
SUMMARY:Personnel Commission Meeting
URL;VALUE=URI:https://www.lahabraschools.org/calendar/7192800/personnel-com
 mission-meeting
DTSTART:20250129T003000Z
DTEND:20250129T013000Z
END:VEVENT
END:VCALENDAR
