BEGIN:VCALENDAR
VERSION:2.0
PRODID:SchoolNow
CALSCALE:GREGORIAN
BEGIN:VEVENT
UID:715dc958-eb23-11ef-8340-0a58a9feac02
DTSTAMP:20250214T223133Z
SUMMARY:Personnel Commission Meeting
URL;VALUE=URI:https://www.lahabraschools.org/calendar/7469935/personnel-com
 mission-meeting
DTSTART:20250219T003000Z
DTEND:20250219T013000Z
END:VEVENT
END:VCALENDAR
