BEGIN:VCALENDAR
VERSION:2.0
PRODID:SchoolNow
CALSCALE:GREGORIAN
BEGIN:VEVENT
UID:95754b62-efc0-11ef-aa67-0e503b533187
DTSTAMP:20250220T192629Z
SUMMARY:Personnel Commission Meeting
URL;VALUE=URI:https://www.lahabraschools.org/calendar/7509915/personnel-com
 mission-meeting
DTSTART:20250311T233000Z
DTEND:20250312T000000Z
END:VEVENT
END:VCALENDAR
