BEGIN:VCALENDAR
VERSION:2.0
PRODID:SchoolNow
CALSCALE:GREGORIAN
BEGIN:VEVENT
UID:3e382248-0b63-11f0-bfcd-0ef01c4d69df
DTSTAMP:20250331T151009Z
SUMMARY:Personnel Commission Meeting
URL;VALUE=URI:https://www.lahabraschools.org/calendar/7789887/personnel-com
 mission-meeting
DTSTART:20250422T233000Z
DTEND:20250423T000000Z
END:VEVENT
END:VCALENDAR
