BEGIN:VCALENDAR
VERSION:2.0
PRODID:SchoolNow
CALSCALE:GREGORIAN
BEGIN:VEVENT
UID:cd5d7270-3598-11f0-bdf6-0affc86ceec7
DTSTAMP:20250520T163804Z
SUMMARY:Personnel Commission Meeting
URL;VALUE=URI:https://www.lahabraschools.org/calendar/8169787/personnel-com
 mission-meeting
DTSTART:20250520T233000Z
DTEND:20250521T000000Z
END:VEVENT
END:VCALENDAR
