BEGIN:VCALENDAR
VERSION:2.0
PRODID:SchoolNow
CALSCALE:GREGORIAN
BEGIN:VEVENT
UID:ca68f930-489a-11f0-9d71-0afff89ce305
DTSTAMP:20250613T211010Z
SUMMARY:Personnel Commission Meeting
URL;VALUE=URI:https://www.lahabraschools.org/calendar/8298665/personnel-com
 mission-meeting
DTSTART:20250617T233000Z
DTEND:20250618T000000Z
END:VEVENT
END:VCALENDAR
