BEGIN:VCALENDAR
VERSION:2.0
PRODID:SchoolNow
CALSCALE:GREGORIAN
BEGIN:VEVENT
UID:78f90b3e-60d3-11f0-b0df-02b0890989d9
DTSTAMP:20250714T170046Z
SUMMARY:Special Board Meeting
LOCATION:https://simbli.eboardsolutions.com/SB_Meetings/ViewMeeting.aspx?S=
 36030699&MID=43060
URL;VALUE=URI:https://www.lahabraschools.org/calendar/8414025/special-board
 -meeting
DTSTART:20250715T170000Z
DTEND:20250715T180000Z
END:VEVENT
END:VCALENDAR
