BEGIN:VCALENDAR
VERSION:2.0
PRODID:SchoolNow
CALSCALE:GREGORIAN
BEGIN:VEVENT
UID:c8297814-6255-11f0-876f-0a58a9feac02
DTSTAMP:20250716T150737Z
SUMMARY:Back to School Night - Arbolita Elementary
LOCATION:Arbolita Elementary
URL;VALUE=URI:https://www.lahabraschools.org/calendar/8419869/back-to-schoo
 l-night-arbolita-elementary
DTSTART;VALUE=DATE:20250819
DTEND;VALUE=DATE:20250820
END:VEVENT
END:VCALENDAR
