BEGIN:VCALENDAR
VERSION:2.0
PRODID:SchoolNow
CALSCALE:GREGORIAN
BEGIN:VEVENT
UID:47b2b2f8-6256-11f0-9e00-0a58a9feac02
DTSTAMP:20250716T151715Z
SUMMARY:Back to School Night - El Cerrito Elementary
LOCATION:El Cerrito Elementary
URL;VALUE=URI:https://www.lahabraschools.org/calendar/8419871/back-to-schoo
 l-night-el-cerrito-elementary
DTSTART:20250819T003000Z
DTEND:20250819T020000Z
END:VEVENT
END:VCALENDAR
