BEGIN:VCALENDAR
VERSION:2.0
PRODID:SchoolNow
CALSCALE:GREGORIAN
BEGIN:VEVENT
UID:78eb18f4-6258-11f0-824c-0a58a9feac02
DTSTAMP:20250716T152114Z
SUMMARY:Back to School Night - Ladera Palma Elementary
LOCATION:Ladera Palma Elementary
URL;VALUE=URI:https://www.lahabraschools.org/calendar/8419872/back-to-schoo
 l-night-ladera-palma-elementary
DTSTART;VALUE=DATE:20250819
DTEND;VALUE=DATE:20250820
END:VEVENT
END:VCALENDAR
