BEGIN:VCALENDAR
VERSION:2.0
PRODID:SchoolNow
CALSCALE:GREGORIAN
BEGIN:VEVENT
UID:189f2250-6259-11f0-93aa-0a58a9feac02
DTSTAMP:20250716T152525Z
SUMMARY:Back to School Night - Las Lomas / Early Learning
LOCATION:Las Lomas Elementary
URL;VALUE=URI:https://www.lahabraschools.org/calendar/8419873/back-to-schoo
 l-night-las-lomas-early-learning
DTSTART;VALUE=DATE:20250813
DTEND;VALUE=DATE:20250814
END:VEVENT
END:VCALENDAR
