BEGIN:VCALENDAR
VERSION:2.0
PRODID:SchoolNow
CALSCALE:GREGORIAN
BEGIN:VEVENT
UID:3fcb9f66-6259-11f0-bd97-0eda56c5edcb
DTSTAMP:20250716T152631Z
SUMMARY:Back to School Night-  Las Positas Elementary
LOCATION:Las Positas Elementary
URL;VALUE=URI:https://www.lahabraschools.org/calendar/8419874/back-to-schoo
 l-night-las-positas-elementary
DTSTART;VALUE=DATE:20250820
DTEND;VALUE=DATE:20250821
END:VEVENT
END:VCALENDAR
